BEGIN:VCALENDAR
VERSION:2.0
PRODID:-//&Aacute;rvore da Vida | Comunidade Cat&oacute;lica - ECPv5.5.0//NONSGML v1.0//EN
CALSCALE:GREGORIAN
METHOD:PUBLISH
X-WR-CALNAME:&Aacute;rvore da Vida | Comunidade Cat&oacute;lica
X-ORIGINAL-URL:http://comunidadearvoredavida.com.br
X-WR-CALDESC:Eventos para &Aacute;rvore da Vida | Comunidade Cat&oacute;lica
BEGIN:VTIMEZONE
TZID:America/Sao_Paulo
BEGIN:STANDARD
TZOFFSETFROM:-0200
TZOFFSETTO:-0300
TZNAME:-03
DTSTART:20170219T020000
END:STANDARD
BEGIN:DAYLIGHT
TZOFFSETFROM:-0300
TZOFFSETTO:-0200
TZNAME:-02
DTSTART:20171015T030000
END:DAYLIGHT
END:VTIMEZONE
BEGIN:VEVENT
DTSTART;TZID=America/Sao_Paulo:20170621T203000
DTEND;TZID=America/Sao_Paulo:20170621T213000
DTSTAMP:20260418T131315
CREATED:20170614T191826Z
LAST-MODIFIED:20170621T001934Z
UID:9659-1498077000-1498080600@comunidadearvoredavida.com.br
SUMMARY:Abertura do jubileu de 20 anos
DESCRIPTION:“Conservareis a memória daquele dia\, celebrando-o com uma festa em honra do Senhor” (Ex 12\, 14)\n\n\nCaro (a) irmão (ã) em Cristo\,\n\nA Comunidade Católica Árvore da Vida tem a honra de convidar você e sua família para a Celebração Eucarística em comemoração pelo aniversário de fundação.\nNo dia 21 de junho de 2017 completaremos 19 anos e abriremos solenemente o Ano Jubilar em preparação para os 20 anos da Comunidade.\nTemos muito para celebrar\, agradecer e glorificar a Deus que nos gerou no Amor\, nos sustenta na Fé e nos conduz na Esperança.\nVocê faz parte desta história e será uma grande alegria tê-lo (a) conosco.\n\nContamos com sua presença e orações!
URL:http://comunidadearvoredavida.com.br/agenda/abetura-do-jubileu-de-20-anos/
LOCATION:Mosteiro Subiaco\, Rua Barra Grande\, 206 - Indaiá\, Belo Horizonte\, Minas Gerais\, 31270-000\, Brasil
CATEGORIES:Site
ATTACH;FMTTYPE=image/jpeg:http://comunidadearvoredavida.com.br/wp-content/uploads/2017/06/convite-jubileu.jpg
ORGANIZER;CN="Comunidade%20Cat%C3%B3lica%20%C3%81rvore%20da%20Vida":MAILTO:contato@comunidadearvoredavida.com
END:VEVENT
END:VCALENDAR